BEGIN:VCALENDAR
VERSION:2.0
PRODID:-//Good Shepherd Church in Owatonna - ECPv6.15.20//NONSGML v1.0//EN
CALSCALE:GREGORIAN
METHOD:PUBLISH
X-WR-CALNAME:Good Shepherd Church in Owatonna
X-ORIGINAL-URL:https://goodshepherdowatonna.com
X-WR-CALDESC:Events for Good Shepherd Church in Owatonna
REFRESH-INTERVAL;VALUE=DURATION:PT1H
X-Robots-Tag:noindex
X-PUBLISHED-TTL:PT1H
BEGIN:VTIMEZONE
TZID:America/Chicago
BEGIN:DAYLIGHT
TZOFFSETFROM:-0600
TZOFFSETTO:-0500
TZNAME:CDT
DTSTART:20240310T080000
END:DAYLIGHT
BEGIN:STANDARD
TZOFFSETFROM:-0500
TZOFFSETTO:-0600
TZNAME:CST
DTSTART:20241103T070000
END:STANDARD
BEGIN:DAYLIGHT
TZOFFSETFROM:-0600
TZOFFSETTO:-0500
TZNAME:CDT
DTSTART:20250309T080000
END:DAYLIGHT
BEGIN:STANDARD
TZOFFSETFROM:-0500
TZOFFSETTO:-0600
TZNAME:CST
DTSTART:20251102T070000
END:STANDARD
BEGIN:DAYLIGHT
TZOFFSETFROM:-0600
TZOFFSETTO:-0500
TZNAME:CDT
DTSTART:20260308T080000
END:DAYLIGHT
BEGIN:STANDARD
TZOFFSETFROM:-0500
TZOFFSETTO:-0600
TZNAME:CST
DTSTART:20261101T070000
END:STANDARD
END:VTIMEZONE
BEGIN:VEVENT
DTSTART;TZID=America/Chicago:20250715T183000
DTEND;TZID=America/Chicago:20250715T200000
DTSTAMP:20260423T051124
CREATED:20250617T160706Z
LAST-MODIFIED:20250617T160706Z
UID:10244-1752604200-1752609600@goodshepherdowatonna.com
SUMMARY:Men's Bible Study: The Forgotten God
DESCRIPTION:TUESDAYS 6:30-8:00pm\nJuly 15-Sept. 2\nWe will be reading and discussing The Forgotten God: Reversing our Tragic Neglect of the Holy Spirit by Francis Chan. \nCost is $10 for the materials. \nREGISTER HERE or at the Welcome Center.
URL:https://goodshepherdowatonna.com/event/mens-bible-study-the-forgotten-god/
LOCATION:Good Shepherd Owatonna\, 2500 7th Ave NE\, Owatonna\, MN\, 55060\, United States
END:VEVENT
BEGIN:VEVENT
DTSTART;TZID=America/Chicago:20250713T110000
DTEND;TZID=America/Chicago:20250713T130000
DTSTAMP:20260423T051124
CREATED:20250626T171512Z
LAST-MODIFIED:20250626T171512Z
UID:10259-1752404400-1752411600@goodshepherdowatonna.com
SUMMARY:Family Fun Day
DESCRIPTION:Activities for all ages!\nBring a chair or blanket for a picnic lunch!\n\nLunch: hot dogs\, chips cookies\, and lemonade\nPlayground fun\nRock painting\nSmall and Large Group games
URL:https://goodshepherdowatonna.com/event/family-fun-day/
LOCATION:Good Shepherd Owatonna\, 2500 7th Ave NE\, Owatonna\, MN\, 55060\, United States
CATEGORIES:Children's Ministry,Community
END:VEVENT
BEGIN:VEVENT
DTSTART;TZID=America/Chicago:20250707T180000
DTEND;TZID=America/Chicago:20250707T200000
DTSTAMP:20260423T051124
CREATED:20250416T171102Z
LAST-MODIFIED:20250416T171102Z
UID:10173-1751911200-1751918400@goodshepherdowatonna.com
SUMMARY:VBS 2025: Magnified
DESCRIPTION:July 7-10\n6:00- 8:00PM\nREGISTER HERE!\nVOLUNTEER HERE!
URL:https://goodshepherdowatonna.com/event/vbs-2025-magnified/
LOCATION:Good Shepherd Owatonna\, 2500 7th Ave NE\, Owatonna\, MN\, 55060\, United States
CATEGORIES:Children's Ministry
ATTACH;FMTTYPE=image/png:https://goodshepherdowatonna.com/wp-content/uploads/2025/03/Website-1.png
END:VEVENT
BEGIN:VEVENT
DTSTART;TZID=America/Chicago:20250629T160000
DTEND;TZID=America/Chicago:20250629T190000
DTSTAMP:20260423T051124
CREATED:20250605T162039Z
LAST-MODIFIED:20250605T162137Z
UID:10224-1751212800-1751223600@goodshepherdowatonna.com
SUMMARY:Bottle Rockets!
DESCRIPTION:Pizza Provided. Bring a Friend!\nFor youth who just completed 5th or 6th Grade: REGISTER HERE
URL:https://goodshepherdowatonna.com/event/bottle-rockets/
LOCATION:Good Shepherd Owatonna\, 2500 7th Ave NE\, Owatonna\, MN\, 55060\, United States
CATEGORIES:Youth
END:VEVENT
BEGIN:VEVENT
DTSTART;TZID=America/Chicago:20250615T100000
DTEND;TZID=America/Chicago:20250615T110000
DTSTAMP:20260423T051124
CREATED:20250529T152832Z
LAST-MODIFIED:20250529T152832Z
UID:10218-1749981600-1749985200@goodshepherdowatonna.com
SUMMARY:Outdoor Worship
DESCRIPTION:Outdoor Worship Service\nJune 15 at 10:00AM\nBring a lawn chair and your singing voice!
URL:https://goodshepherdowatonna.com/event/outdoor-worship/
LOCATION:Good Shepherd Owatonna\, 2500 7th Ave NE\, Owatonna\, MN\, 55060\, United States
CATEGORIES:Worship
END:VEVENT
BEGIN:VEVENT
DTSTART;TZID=America/Chicago:20250608T100000
DTEND;TZID=America/Chicago:20250608T110000
DTSTAMP:20260423T051124
CREATED:20250529T153905Z
LAST-MODIFIED:20250529T153905Z
UID:10220-1749376800-1749380400@goodshepherdowatonna.com
SUMMARY:Senior Blessing Sunday
DESCRIPTION:Join us at 10:00AM! We will pray over our graduating Seniors and celebrate with our church family.
URL:https://goodshepherdowatonna.com/event/senior-blessing-sunday/
LOCATION:Good Shepherd Owatonna\, 2500 7th Ave NE\, Owatonna\, MN\, 55060\, United States
CATEGORIES:Worship
ATTACH;FMTTYPE=image/png:https://goodshepherdowatonna.com/wp-content/uploads/2025/05/Senior-Sunday-2025.png
END:VEVENT
BEGIN:VEVENT
DTSTART;TZID=America/Chicago:20250531T080000
DTEND;TZID=America/Chicago:20250531T120000
DTSTAMP:20260423T051124
CREATED:20250514T154103Z
LAST-MODIFIED:20250514T154103Z
UID:10206-1748678400-1748692800@goodshepherdowatonna.com
SUMMARY:Faithful Families Kick-Off Event
DESCRIPTION:Saturday\, May 31 from 8:00AM—Noon!\nJoin us for a morning of service and fellowship as we kick-off our Faithful Families Ministry!\nWe will assist this family—owned business with brush clean-up and then enjoy range time (basic instruction available) & lunch together. All ages and golf abilities are welcome! Join us for part or all of the morning. \nREGISTER HERE!
URL:https://goodshepherdowatonna.com/event/faithful-families-kick-off-event/
LOCATION:MN
CATEGORIES:Discipleship,Faithful Families
END:VEVENT
BEGIN:VEVENT
DTSTART;TZID=America/Chicago:20250524T090000
DTEND;TZID=America/Chicago:20250524T140000
DTSTAMP:20260423T051124
CREATED:20250422T185205Z
LAST-MODIFIED:20250422T185205Z
UID:10178-1748077200-1748095200@goodshepherdowatonna.com
SUMMARY:New Member Seminar
DESCRIPTION:New Member Seminar \nSaturday\, May 24 from 9:00am-2:00pm \nAre you ready to partner with us in ministry?  Learn more about church membership at Good Shepherd and ask Pastor Greg all your questions. \nLunch is included\, and child care is provided upon request. \nREGISTER HERE
URL:https://goodshepherdowatonna.com/event/new-member-seminar-4/
LOCATION:Good Shepherd Owatonna\, 2500 7th Ave NE\, Owatonna\, MN\, 55060\, United States
CATEGORIES:New Members
END:VEVENT
BEGIN:VEVENT
DTSTART;TZID=America/Chicago:20250503T080000
DTEND;TZID=America/Chicago:20250503T093000
DTSTAMP:20260423T051124
CREATED:20250422T190326Z
LAST-MODIFIED:20250422T190326Z
UID:10181-1746259200-1746264600@goodshepherdowatonna.com
SUMMARY:Men's Breakfast
DESCRIPTION:Men’s Breakfast\nSaturday\, May 3 at 8:00AM\nNo registration necessary\, bring a friend!
URL:https://goodshepherdowatonna.com/event/mens-breakfast-2/
LOCATION:Good Shepherd Owatonna\, 2500 7th Ave NE\, Owatonna\, MN\, 55060\, United States
ATTACH;FMTTYPE=image/jpeg:https://goodshepherdowatonna.com/wp-content/uploads/2015/09/Mens-Breakfast-nodate.jpg
END:VEVENT
BEGIN:VEVENT
DTSTART;TZID=America/Chicago:20250429T183000
DTEND;TZID=America/Chicago:20250429T200000
DTSTAMP:20260423T051124
CREATED:20250331T181952Z
LAST-MODIFIED:20250331T181952Z
UID:10155-1745951400-1745956800@goodshepherdowatonna.com
SUMMARY:Men's Bible Study: The Book of James
DESCRIPTION:Men’s Bible Study: The Book of James\nBegins Tuesday\, April 29 at 6:30PM\nWe will study the book of James together on Tuesdays from 6:30-8:00pm in the Social Hall\, through June 10. Cost for materials is $10\, with scholarships available. \nREGISTER HERE\n 
URL:https://goodshepherdowatonna.com/event/mens-bible-study-the-book-of-james/
LOCATION:Good Shepherd Owatonna\, 2500 7th Ave NE\, Owatonna\, MN\, 55060\, United States
CATEGORIES:Bible Study
END:VEVENT
BEGIN:VEVENT
DTSTART;TZID=America/Chicago:20250420T103000
DTEND;TZID=America/Chicago:20250420T113000
DTSTAMP:20260423T051124
CREATED:20250324T185024Z
LAST-MODIFIED:20250324T185024Z
UID:10142-1745145000-1745148600@goodshepherdowatonna.com
SUMMARY:Easter Worship Service
DESCRIPTION:Easter Worship Service with Children’s Message\n10:30AM
URL:https://goodshepherdowatonna.com/event/easter-worship-service/
LOCATION:Good Shepherd Owatonna\, 2500 7th Ave NE\, Owatonna\, MN\, 55060\, United States
CATEGORIES:Worship
ATTACH;FMTTYPE=image/png:https://goodshepherdowatonna.com/wp-content/uploads/2025/03/Easter-Plain.png
END:VEVENT
BEGIN:VEVENT
DTSTART;TZID=America/Chicago:20250420T083000
DTEND;TZID=America/Chicago:20250420T093000
DTSTAMP:20260423T051124
CREATED:20250324T184918Z
LAST-MODIFIED:20250324T184918Z
UID:10139-1745137800-1745141400@goodshepherdowatonna.com
SUMMARY:Easter Hymn Service
DESCRIPTION:Easter Hymn Service with the Lord’s Supper and Children’s Message\n8:30AM
URL:https://goodshepherdowatonna.com/event/easter-hymn-service/
LOCATION:Good Shepherd Owatonna\, 2500 7th Ave NE\, Owatonna\, MN\, 55060\, United States
CATEGORIES:Worship
ATTACH;FMTTYPE=image/png:https://goodshepherdowatonna.com/wp-content/uploads/2025/03/Easter-Plain.png
END:VEVENT
BEGIN:VEVENT
DTSTART;TZID=America/Chicago:20250420T073000
DTEND;TZID=America/Chicago:20250420T103000
DTSTAMP:20260423T051124
CREATED:20250324T184244Z
LAST-MODIFIED:20250324T184341Z
UID:10134-1745134200-1745145000@goodshepherdowatonna.com
SUMMARY:Easter Breakfast
DESCRIPTION:EASTER BREAKFAST\nbetween all Easter Services\n7:30 & 9:30AM\nFree will offerings will help send our Youth Group to the National Youth Gathering in New Orleans this summer.
URL:https://goodshepherdowatonna.com/event/easter-breakfast/
LOCATION:Good Shepherd Owatonna\, 2500 7th Ave NE\, Owatonna\, MN\, 55060\, United States
CATEGORIES:Food
ATTACH;FMTTYPE=image/png:https://goodshepherdowatonna.com/wp-content/uploads/2025/03/Easter-Breakfast.png
END:VEVENT
BEGIN:VEVENT
DTSTART;TZID=America/Chicago:20250420T063000
DTEND;TZID=America/Chicago:20250420T073000
DTSTAMP:20260423T051124
CREATED:20250324T184610Z
LAST-MODIFIED:20250324T184610Z
UID:10137-1745130600-1745134200@goodshepherdowatonna.com
SUMMARY:Easter Sunrise Service
DESCRIPTION:Easter Sunrise Hymn Service with the Lord’s Supper\n6:30AM
URL:https://goodshepherdowatonna.com/event/easter-sunrise-service-2/
LOCATION:Good Shepherd Owatonna\, 2500 7th Ave NE\, Owatonna\, MN\, 55060\, United States
CATEGORIES:Worship
END:VEVENT
BEGIN:VEVENT
DTSTART;TZID=America/Chicago:20250418T183000
DTEND;TZID=America/Chicago:20250418T193000
DTSTAMP:20260423T051124
CREATED:20250317T185323Z
LAST-MODIFIED:20250317T185323Z
UID:10129-1745001000-1745004600@goodshepherdowatonna.com
SUMMARY:Good Friday
DESCRIPTION:6:30PM Worship Service
URL:https://goodshepherdowatonna.com/event/good-friday-4/
LOCATION:Good Shepherd Owatonna\, 2500 7th Ave NE\, Owatonna\, MN\, 55060\, United States
CATEGORIES:Worship
END:VEVENT
BEGIN:VEVENT
DTSTART;TZID=America/Chicago:20250417T183000
DTEND;TZID=America/Chicago:20250417T193000
DTSTAMP:20260423T051124
CREATED:20250317T185226Z
LAST-MODIFIED:20250317T185226Z
UID:10127-1744914600-1744918200@goodshepherdowatonna.com
SUMMARY:Maundy Thursday
DESCRIPTION:6:30PM Hymn Service with the Lord’s Supper
URL:https://goodshepherdowatonna.com/event/maundy-thursday-4/
LOCATION:Good Shepherd Owatonna\, 2500 7th Ave NE\, Owatonna\, MN\, 55060\, United States
CATEGORIES:Worship
END:VEVENT
BEGIN:VEVENT
DTSTART;TZID=America/Chicago:20250409T173000
DTEND;TZID=America/Chicago:20250409T193000
DTSTAMP:20260423T051124
CREATED:20250317T184911Z
LAST-MODIFIED:20250317T185005Z
UID:10126-1744219800-1744227000@goodshepherdowatonna.com
SUMMARY:Lent Wednesday April 9
DESCRIPTION:5:30PM Meal served by the Shepherd’s Path Riders Motorcycle Group \n6:30PM Lent Worship Service
URL:https://goodshepherdowatonna.com/event/lent-wednesday-april-9/
LOCATION:Good Shepherd Owatonna\, 2500 7th Ave NE\, Owatonna\, MN\, 55060\, United States
CATEGORIES:Worship
END:VEVENT
BEGIN:VEVENT
DTSTART;TZID=America/Chicago:20250402T173000
DTEND;TZID=America/Chicago:20250402T193000
DTSTAMP:20260423T051124
CREATED:20250317T184752Z
LAST-MODIFIED:20250317T185023Z
UID:10125-1743615000-1743622200@goodshepherdowatonna.com
SUMMARY:Lent Wednesday April 2
DESCRIPTION:5:30PM Meal served by the Quilters Group \n6:30PM Lent Worship Service
URL:https://goodshepherdowatonna.com/event/lent-wednesday-april-2/
LOCATION:Good Shepherd Owatonna\, 2500 7th Ave NE\, Owatonna\, MN\, 55060\, United States
CATEGORIES:Worship
END:VEVENT
BEGIN:VEVENT
DTSTART;TZID=America/Chicago:20250326T173000
DTEND;TZID=America/Chicago:20250326T193000
DTSTAMP:20260423T051124
CREATED:20250218T185926Z
LAST-MODIFIED:20250218T185926Z
UID:10096-1743010200-1743017400@goodshepherdowatonna.com
SUMMARY:Lent Wednesday March 26
DESCRIPTION:5:30PM Meal served by the LWML Women in Mission \n6:30PM Lent Hymn Service
URL:https://goodshepherdowatonna.com/event/lent-wednesday-march-26/
LOCATION:Good Shepherd Owatonna\, 2500 7th Ave NE\, Owatonna\, MN\, 55060\, United States
CATEGORIES:Community,Food,Worship
END:VEVENT
BEGIN:VEVENT
DTSTART;TZID=America/Chicago:20250319T183000
DTEND;TZID=America/Chicago:20250319T193000
DTSTAMP:20260423T051124
CREATED:20250218T185525Z
LAST-MODIFIED:20250318T175829Z
UID:10094-1742409000-1742412600@goodshepherdowatonna.com
SUMMARY:March 19: YES\, LENT SERVICE IS WILL BE HELD\, NO MEAL
DESCRIPTION:5:30PM Meal IS CANCELLED DUE TO PREDICTED SNOW \n6:30PM Lent Worship Service WILL BE HELD\, even if Pastor Greg has to ski to the building.
URL:https://goodshepherdowatonna.com/event/lent-wednesday-march-19/
LOCATION:Good Shepherd Owatonna\, 2500 7th Ave NE\, Owatonna\, MN\, 55060\, United States
CATEGORIES:Community,Food,Worship
END:VEVENT
BEGIN:VEVENT
DTSTART;VALUE=DATE:20250314
DTEND;VALUE=DATE:20250316
DTSTAMP:20260423T051124
CREATED:20250128T173819Z
LAST-MODIFIED:20250128T173848Z
UID:10085-1741910400-1742083199@goodshepherdowatonna.com
SUMMARY:Men's Retreat
DESCRIPTION:March 14-15\nREGISTER HERE\nWho: Adult men and their sons or grandsons (age 16 and older). \nWhy: To be challenged\, encouraged\, and refreshed during a 24-hour retreat where faith will be strengthened and spirits renewed by God’s Word. \nWhat: Beside time in God’s Word\, this retreat allows for plenty of fellowship and recreational opportunities. Participants are invited to bring their own gear for cross-country skiing\, snowshoeing\, ice fishing\, and target shooting and enjoy God’s creation. An optional tour of Ahlman’s Gun Shop will also be available. Recreational equipment for any of the mentioned is not available through the camp. Participants are encouraged to bring a board game and snack to share as well. \nSchedule of Events (click here) \nCost: \n$131.50 Omega Lodge (hotel-style room) *Double Occupancy/Shared Lodging\n$96 Bunkhouse Style Shared Lodging\n$72 per day – Saturday Only (No Overnight Lodging) \nRegistration: The event includes three meals and lodging in hotel-style (double occupancy) rooms in Omega Lodge or bunkhouse-style shared lodging. Those who stay in Omega Lodge will have linens\, pillows and towels provided. Those who stay in the other shared lodging need to supply their own sleeping bag or sheets\, pillow\, and towels. \nNeed More Info? Call 507-685-4266 \nREGISTER HERE
URL:https://goodshepherdowatonna.com/event/mens-retreat-2/
LOCATION:Camp Omega\, 22750 Lind Ave\, Waterviile\, MN\, 56096
END:VEVENT
BEGIN:VEVENT
DTSTART;TZID=America/Chicago:20250312T173000
DTEND;TZID=America/Chicago:20250312T193000
DTSTAMP:20260423T051124
CREATED:20250218T185327Z
LAST-MODIFIED:20250218T185327Z
UID:10092-1741800600-1741807800@goodshepherdowatonna.com
SUMMARY:Lent Wednesday March 12
DESCRIPTION:5:30PM Meal served by the World Ministry Team \n6:30PM Lent Hymn Service
URL:https://goodshepherdowatonna.com/event/lent-wednesday-march-12/
LOCATION:MN
CATEGORIES:Community,Food,Worship
END:VEVENT
BEGIN:VEVENT
DTSTART;TZID=America/Chicago:20250305T183000
DTEND;TZID=America/Chicago:20250305T193000
DTSTAMP:20260423T051124
CREATED:20230201T205624Z
LAST-MODIFIED:20250225T192201Z
UID:9413-1741199400-1741203000@goodshepherdowatonna.com
SUMMARY:Ash Wednesday
DESCRIPTION:Ash Wednesday\nMarch 5\n5:30PM Meal: Pasta Bake provided by the Youth Team\n6:30PM Worship Service
URL:https://goodshepherdowatonna.com/event/ash-wednesday-2025/
LOCATION:Good Shepherd Owatonna\, 2500 7th Ave NE\, Owatonna\, MN\, 55060\, United States
CATEGORIES:Food,Worship
END:VEVENT
BEGIN:VEVENT
DTSTART;TZID=America/Chicago:20250303T170000
DTEND;TZID=America/Chicago:20250303T200000
DTSTAMP:20260423T051124
CREATED:20250220T154306Z
LAST-MODIFIED:20250225T192118Z
UID:10097-1741021200-1741032000@goodshepherdowatonna.com
SUMMARY:Youth Fundraiser
DESCRIPTION:Youth Fundraiser \nMonday\, March 3  \nEat at Culver’s from 5-8PM and we’ll earn 10% on ALL orders\, including drive-thru. No code needed.
URL:https://goodshepherdowatonna.com/event/youth-fundraiser/
LOCATION:MN
CATEGORIES:Food,Youth
END:VEVENT
BEGIN:VEVENT
DTSTART;TZID=America/Chicago:20250301T080000
DTEND;TZID=America/Chicago:20250301T100000
DTSTAMP:20260423T051124
CREATED:20211214T205403Z
LAST-MODIFIED:20250218T190107Z
UID:8589-1740816000-1740823200@goodshepherdowatonna.com
SUMMARY:Men's Breakfast
DESCRIPTION:Men’s Breakfast \nSaturday\, March 1 \n8:00am \n 
URL:https://goodshepherdowatonna.com/event/mens-breakfast/
LOCATION:Good Shepherd Owatonna\, 2500 7th Ave NE\, Owatonna\, MN\, 55060\, United States
CATEGORIES:Bible Study,Food
ATTACH;FMTTYPE=image/png:https://goodshepherdowatonna.com/wp-content/uploads/2021/12/Breakfast.png
END:VEVENT
BEGIN:VEVENT
DTSTART;TZID=America/Chicago:20250224T180000
DTEND;TZID=America/Chicago:20250224T193000
DTSTAMP:20260423T051124
CREATED:20250128T153517Z
LAST-MODIFIED:20250128T153517Z
UID:10078-1740420000-1740425400@goodshepherdowatonna.com
SUMMARY:Identity Simplified Week 5
DESCRIPTION:Raising kids to be confident in their identity and purpose in Christ \nREGISTER HERE\nThe world around us will tell our kids a lot of things about who they are. But as believing parents we know one thing to be true: We were made in God’s image and were created for a purpose. \nWe have heard from many parents who are struggling to teach their kids about identity from a biblical worldview. Many of us are asking the same questions: \n\nHow do I talk to my kids about gender identity?\nHow do I explain to my kids that they were made in God’s image?\nWhat do I do if my child identifies as LGBTQ+?\nHow do I encourage my kids to discover God’s purpose for their lives?\n\nJoin us to learn how to affirm your child’s identity in Christ! \nFeb 24- Everyone is Made in the Image of God
URL:https://goodshepherdowatonna.com/event/identity-simplified-week-5/
LOCATION:MN
CATEGORIES:Children's Ministry
END:VEVENT
BEGIN:VEVENT
DTSTART;TZID=America/Chicago:20250217T180000
DTEND;TZID=America/Chicago:20250217T193000
DTSTAMP:20260423T051124
CREATED:20250128T153324Z
LAST-MODIFIED:20250128T153539Z
UID:10076-1739815200-1739820600@goodshepherdowatonna.com
SUMMARY:Identity\, Simplified
DESCRIPTION:Raising kids to be confident in their identity and purpose in Christ \nREGISTER HERE\nThe world around us will tell our kids a lot of things about who they are. But as believing parents we know one thing to be true: We were made in God’s image and were created for a purpose. \nWe have heard from many parents who are struggling to teach their kids about identity from a biblical worldview. Many of us are asking the same questions: \n\nHow do I talk to my kids about gender identity?\nHow do I explain to my kids that they were made in God’s image?\nWhat do I do if my child identifies as LGBTQ+?\nHow do I encourage my kids to discover God’s purpose for their lives?\n\nJoin us for ANY or ALL of the sessions to learn how to affirm your child’s identity in Christ! \nFeb 17- Embracing Our Personal Identity in Christ\nFeb 24- Everyone is Made in the Image of God
URL:https://goodshepherdowatonna.com/event/identity-simplified-3/
LOCATION:MN
CATEGORIES:Children's Ministry
END:VEVENT
BEGIN:VEVENT
DTSTART;TZID=America/Chicago:20250213T170000
DTEND;TZID=America/Chicago:20250213T190000
DTSTAMP:20260423T051124
CREATED:20221229T164932Z
LAST-MODIFIED:20250108T193339Z
UID:9356-1739466000-1739473200@goodshepherdowatonna.com
SUMMARY:Preschool Taco Supper and Open House
DESCRIPTION:Preschool Taco Supper and Open House\nThursday\, February 13\n5:00pm – 7:00pm\nTickets are $10 in advance\, available at Good Shepherd or from a Good Shepherd Preschool family.\nBuy Tickets Online HERE\nTickets at the door will be $12.\nKids under 5 eat free!\nTake out is available.\n 
URL:https://goodshepherdowatonna.com/event/preschool-taco-supper-and-open-house-2025/
LOCATION:Good Shepherd Owatonna\, 2500 7th Ave NE\, Owatonna\, MN\, 55060\, United States
CATEGORIES:Community,Food,Preschool
END:VEVENT
BEGIN:VEVENT
DTSTART;TZID=America/Chicago:20250211T183000
DTEND;TZID=America/Chicago:20250211T200000
DTSTAMP:20260423T051124
CREATED:20250116T175353Z
LAST-MODIFIED:20250116T175353Z
UID:10064-1739298600-1739304000@goodshepherdowatonna.com
SUMMARY:Men's Bible Study: The Forge
DESCRIPTION:Join us for a winter Bible study with the guys! \nWe will be discussing The Forge\, details on materials will be at the first meeting. \nREGISTER HERE
URL:https://goodshepherdowatonna.com/event/mens-bible-study-the-forge/
LOCATION:Good Shepherd Owatonna\, 2500 7th Ave NE\, Owatonna\, MN\, 55060\, United States
CATEGORIES:Bible Study
END:VEVENT
BEGIN:VEVENT
DTSTART;TZID=America/Chicago:20250210T180000
DTEND;TZID=America/Chicago:20250210T193000
DTSTAMP:20260423T051124
CREATED:20250128T153208Z
LAST-MODIFIED:20250128T153605Z
UID:10074-1739210400-1739215800@goodshepherdowatonna.com
SUMMARY:Identity: Simplified
DESCRIPTION:Raising kids to be confident in their identity and purpose in Christ \nREGISTER HERE\nThe world around us will tell our kids a lot of things about who they are. But as believing parents we know one thing to be true: We were made in God’s image and were created for a purpose. \nWe have heard from many parents who are struggling to teach their kids about identity from a biblical worldview. Many of us are asking the same questions: \n\nHow do I talk to my kids about gender identity?\nHow do I explain to my kids that they were made in God’s image?\nWhat do I do if my child identifies as LGBTQ+?\nHow do I encourage my kids to discover God’s purpose for their lives?\n\nJoin us for ANY or ALL of the sessions to learn how to affirm your child’s identity in Christ! \nFeb 10- Gender & Sexual Identity\nFeb 17- Embracing Our Personal Identity in Christ\nFeb 24- Everyone is Made in the Image of God
URL:https://goodshepherdowatonna.com/event/identity-simplified-2/
LOCATION:MN
CATEGORIES:Children's Ministry
END:VEVENT
END:VCALENDAR