BEGIN:VCALENDAR
VERSION:2.0
PRODID:-//Good Shepherd Church in Owatonna - ECPv6.15.20//NONSGML v1.0//EN
CALSCALE:GREGORIAN
METHOD:PUBLISH
X-ORIGINAL-URL:https://goodshepherdowatonna.com
X-WR-CALDESC:Events for Good Shepherd Church in Owatonna
REFRESH-INTERVAL;VALUE=DURATION:PT1H
X-Robots-Tag:noindex
X-PUBLISHED-TTL:PT1H
BEGIN:VTIMEZONE
TZID:America/Chicago
BEGIN:DAYLIGHT
TZOFFSETFROM:-0600
TZOFFSETTO:-0500
TZNAME:CDT
DTSTART:20250309T080000
END:DAYLIGHT
BEGIN:STANDARD
TZOFFSETFROM:-0500
TZOFFSETTO:-0600
TZNAME:CST
DTSTART:20251102T070000
END:STANDARD
BEGIN:DAYLIGHT
TZOFFSETFROM:-0600
TZOFFSETTO:-0500
TZNAME:CDT
DTSTART:20260308T080000
END:DAYLIGHT
BEGIN:STANDARD
TZOFFSETFROM:-0500
TZOFFSETTO:-0600
TZNAME:CST
DTSTART:20261101T070000
END:STANDARD
BEGIN:DAYLIGHT
TZOFFSETFROM:-0600
TZOFFSETTO:-0500
TZNAME:CDT
DTSTART:20270314T080000
END:DAYLIGHT
BEGIN:STANDARD
TZOFFSETFROM:-0500
TZOFFSETTO:-0600
TZNAME:CST
DTSTART:20271107T070000
END:STANDARD
END:VTIMEZONE
BEGIN:VEVENT
DTSTART;VALUE=DATE:20260621
DTEND;VALUE=DATE:20260627
DTSTAMP:20260424T101257
CREATED:20251125T181103Z
LAST-MODIFIED:20251125T181103Z
UID:10475-1782000000-1782518399@goodshepherdowatonna.com
SUMMARY:Grade 8 LuWiSiMo Mission Trip
DESCRIPTION:Mission trips are a great way for the confirmation kids to build relationships with each other\, grow in their faith through service and Bible study\, and also have tons of fun. \nClick below to learn more and sign up today! \nREGISTER HERE 
URL:https://goodshepherdowatonna.com/event/grade-8-luwisimo-mission-trip/
CATEGORIES:Youth
ATTACH;FMTTYPE=image/jpeg:https://goodshepherdowatonna.com/wp-content/uploads/2025/11/2026-LuWiSoMo-no-QR.jpg
END:VEVENT
BEGIN:VEVENT
DTSTART;TZID=America/Chicago:20260706T180000
DTEND;TZID=America/Chicago:20260706T200000
DTSTAMP:20260424T101257
CREATED:20260305T171230Z
LAST-MODIFIED:20260305T171230Z
UID:10681-1783360800-1783368000@goodshepherdowatonna.com
SUMMARY:VBS 2026: Illumination Station
DESCRIPTION:July 6-9\, 2026\nSIGN UP TODAY!
URL:https://goodshepherdowatonna.com/event/vbs-2026-illumination-station/
LOCATION:Good Shepherd Owatonna\, 2500 7th Ave NE\, Owatonna\, MN\, 55060\, United States
CATEGORIES:Children's Ministry,Community
ATTACH;FMTTYPE=image/png:https://goodshepherdowatonna.com/wp-content/uploads/2026/03/slide-no-code.png
END:VEVENT
BEGIN:VEVENT
DTSTART;VALUE=DATE:20260725
DTEND;VALUE=DATE:20260803
DTSTAMP:20260424T101257
CREATED:20251125T181720Z
LAST-MODIFIED:20251125T182014Z
UID:10477-1784937600-1785715199@goodshepherdowatonna.com
SUMMARY:2026 Summer Mission Trip
DESCRIPTION:We’re Going to Texas!\nPLEASE REGISTER BY DECEMBER 17! \nClick below to learn more about this awesome trip and register today! \nREGISTER HERE
URL:https://goodshepherdowatonna.com/event/2026-summer-mission-trip/
CATEGORIES:Youth
ATTACH;FMTTYPE=image/jpeg:https://goodshepherdowatonna.com/wp-content/uploads/2025/11/2026-Youth-Mission-Trip.jpg
END:VEVENT
END:VCALENDAR