BEGIN:VCALENDAR
VERSION:2.0
PRODID:-//Good Shepherd Church in Owatonna - ECPv6.15.20//NONSGML v1.0//EN
CALSCALE:GREGORIAN
METHOD:PUBLISH
X-WR-CALNAME:Good Shepherd Church in Owatonna
X-ORIGINAL-URL:https://goodshepherdowatonna.com
X-WR-CALDESC:Events for Good Shepherd Church in Owatonna
REFRESH-INTERVAL;VALUE=DURATION:PT1H
X-Robots-Tag:noindex
X-PUBLISHED-TTL:PT1H
BEGIN:VTIMEZONE
TZID:America/Chicago
BEGIN:DAYLIGHT
TZOFFSETFROM:-0600
TZOFFSETTO:-0500
TZNAME:CDT
DTSTART:20240310T080000
END:DAYLIGHT
BEGIN:STANDARD
TZOFFSETFROM:-0500
TZOFFSETTO:-0600
TZNAME:CST
DTSTART:20241103T070000
END:STANDARD
BEGIN:DAYLIGHT
TZOFFSETFROM:-0600
TZOFFSETTO:-0500
TZNAME:CDT
DTSTART:20250309T080000
END:DAYLIGHT
BEGIN:STANDARD
TZOFFSETFROM:-0500
TZOFFSETTO:-0600
TZNAME:CST
DTSTART:20251102T070000
END:STANDARD
BEGIN:DAYLIGHT
TZOFFSETFROM:-0600
TZOFFSETTO:-0500
TZNAME:CDT
DTSTART:20260308T080000
END:DAYLIGHT
BEGIN:STANDARD
TZOFFSETFROM:-0500
TZOFFSETTO:-0600
TZNAME:CST
DTSTART:20261101T070000
END:STANDARD
BEGIN:DAYLIGHT
TZOFFSETFROM:-0600
TZOFFSETTO:-0500
TZNAME:CDT
DTSTART:20270314T080000
END:DAYLIGHT
BEGIN:STANDARD
TZOFFSETFROM:-0500
TZOFFSETTO:-0600
TZNAME:CST
DTSTART:20271107T070000
END:STANDARD
END:VTIMEZONE
BEGIN:VEVENT
DTSTART;VALUE=DATE:20260621
DTEND;VALUE=DATE:20260627
DTSTAMP:20260422T173801
CREATED:20251125T181103Z
LAST-MODIFIED:20251125T181103Z
UID:10475-1782000000-1782518399@goodshepherdowatonna.com
SUMMARY:Grade 8 LuWiSiMo Mission Trip
DESCRIPTION:Mission trips are a great way for the confirmation kids to build relationships with each other\, grow in their faith through service and Bible study\, and also have tons of fun. \nClick below to learn more and sign up today! \nREGISTER HERE 
URL:https://goodshepherdowatonna.com/event/grade-8-luwisimo-mission-trip/
CATEGORIES:Youth
ATTACH;FMTTYPE=image/jpeg:https://goodshepherdowatonna.com/wp-content/uploads/2025/11/2026-LuWiSoMo-no-QR.jpg
END:VEVENT
BEGIN:VEVENT
DTSTART;TZID=America/Chicago:20260516T093000
DTEND;TZID=America/Chicago:20260516T110000
DTSTAMP:20260422T173801
CREATED:20260407T190641Z
LAST-MODIFIED:20260409T151545Z
UID:10719-1778923800-1778929200@goodshepherdowatonna.com
SUMMARY:Build Your Own Bouquet
DESCRIPTION:Saturday\, May 16 \n9:30-11:00AM \nOur Moms Group is hosting this FREE “Build Your Own Bouquet” event. Come to church with your own vase and enjoy some muffins\, juice\, and coffee. Spend time connecting with friends and making new ones. Afterward\, head home with your own unique floral creation! \nREGISTER HERE
URL:https://goodshepherdowatonna.com/event/10719/
LOCATION:Good Shepherd Owatonna\, 2500 7th Ave NE\, Owatonna\, MN\, 55060\, United States
CATEGORIES:Community,Women at the Well
ATTACH;FMTTYPE=image/jpeg:https://goodshepherdowatonna.com/wp-content/uploads/2026/04/Yellow-and-Beige-Floral-Watercolor-Illustration-Brainstorm-Session-Presentation2.jpg
END:VEVENT
BEGIN:VEVENT
DTSTART;TZID=America/Chicago:20260516T090000
DTEND;TZID=America/Chicago:20260516T140000
DTSTAMP:20260422T173801
CREATED:20251230T212438Z
LAST-MODIFIED:20260407T174508Z
UID:10535-1778922000-1778940000@goodshepherdowatonna.com
SUMMARY:New Member Seminar
DESCRIPTION:New Member Seminar\nSaturday\, May 16\n9:00AM-2:00PM\nAre you ready to partner with us in ministry? Learn more about church membership at Good Shepherd. Lunch is included\, and child care is provided upon request. \nREGISTER HERE\n 
URL:https://goodshepherdowatonna.com/event/new-member-seminar-5/
LOCATION:Good Shepherd Owatonna\, 2500 7th Ave NE\, Owatonna\, MN\, 55060\, United States
CATEGORIES:New Members
ATTACH;FMTTYPE=image/png:https://goodshepherdowatonna.com/wp-content/uploads/2025/12/NewMemberMay26.png
END:VEVENT
BEGIN:VEVENT
DTSTART;TZID=America/Chicago:20260504T183000
DTEND;TZID=America/Chicago:20260504T200000
DTSTAMP:20260422T173801
CREATED:20260407T184146Z
LAST-MODIFIED:20260407T184146Z
UID:10717-1777919400-1777924800@goodshepherdowatonna.com
SUMMARY:Evening Walks in May: Women at the Well
DESCRIPTION:Mondays in May at 6:30PM      \nMeet in the Good Shepherd Parking Lot \nLet’s move together! \nJoin your leader\, Kris Duerr\, for a short devotion followed by a walk with friends. This group will meet in the church parking lot\, beginning Monday\, May 4 at 6:30 pm. \nThe group will decide how far/long to walk. Plan on no more than 60-90 minutes for devotion\, prayer\, and walking. \nAll women are welcome. If you wish to receive updates in case of inclement weather or schedule changes\, please register HERE.
URL:https://goodshepherdowatonna.com/event/evening-walks-in-may-women-at-the-well/
LOCATION:Good Shepherd Owatonna\, 2500 7th Ave NE\, Owatonna\, MN\, 55060\, United States
CATEGORIES:Community,Women at the Well
ATTACH;FMTTYPE=image/png:https://goodshepherdowatonna.com/wp-content/uploads/2026/04/EveningWalksinMay.png
END:VEVENT
BEGIN:VEVENT
DTSTART;TZID=America/Chicago:20260428T160000
DTEND;TZID=America/Chicago:20260428T210000
DTSTAMP:20260422T173801
CREATED:20260408T183604Z
LAST-MODIFIED:20260408T183604Z
UID:10725-1777392000-1777410000@goodshepherdowatonna.com
SUMMARY:Timber Lodge Fundraiser
DESCRIPTION:Support our Youth programs with dinner!\nEat on April 28 from 4-9PM at Timber Lodge: 4455 W Frontage Rd Owatonna\, and 15% of sales will be donated to Good Shepherd Youth programming.
URL:https://goodshepherdowatonna.com/event/timber-lodge-fundraiser/
CATEGORIES:Community,Food,Youth
ATTACH;FMTTYPE=image/jpeg:https://goodshepherdowatonna.com/wp-content/uploads/2026/04/Youth-Timber-Lodge-4-28-26.jpg
END:VEVENT
BEGIN:VEVENT
DTSTART;TZID=America/Chicago:20260419T110000
DTEND;TZID=America/Chicago:20260419T130000
DTSTAMP:20260422T173801
CREATED:20260408T183348Z
LAST-MODIFIED:20260408T183348Z
UID:10723-1776596400-1776603600@goodshepherdowatonna.com
SUMMARY:Game Day Smorgasbord
DESCRIPTION:Faithful Families Event: Game Day Smorgasbord\nSunday\, April 19 at 11:00AM\nBoard games\, puzzles\, rock painting\, and more. OR\, bring your own game to share!\nLunch is provided.\nNo registration needed.
URL:https://goodshepherdowatonna.com/event/game-day-smorgasbord/
LOCATION:Good Shepherd Owatonna\, 2500 7th Ave NE\, Owatonna\, MN\, 55060\, United States
CATEGORIES:Children's Ministry,Faithful Families,Food
ATTACH;FMTTYPE=image/jpeg:https://goodshepherdowatonna.com/wp-content/uploads/2026/04/FFamAprilLarge.jpg
END:VEVENT
BEGIN:VEVENT
DTSTART;TZID=America/Chicago:20260410T180000
DTEND;TZID=America/Chicago:20260410T193000
DTSTAMP:20260422T173801
CREATED:20260309T161518Z
LAST-MODIFIED:20260309T161518Z
UID:10684-1775844000-1775849400@goodshepherdowatonna.com
SUMMARY:Ladies' Game Night
DESCRIPTION:Please join us for some indoor fun and games in the Social Hall!\nWe will be playing Bunco\, The Bible is Funny\, and maybe a few other games as well. Don’t know how to play? Don’t worry! This is for fun and not a competition. Plus\, we will be ready to help you learn.\nFeel free to bring a game to share!\nInvite your friends and meet some new ones.\nAlso\, if you wish\, bring a light snack for yourself. \n\nRegister HERE
URL:https://goodshepherdowatonna.com/event/ladies-game-night/
LOCATION:Good Shepherd Owatonna\, 2500 7th Ave NE\, Owatonna\, MN\, 55060\, United States
CATEGORIES:Community,Women at the Well
ATTACH;FMTTYPE=image/jpeg:https://goodshepherdowatonna.com/wp-content/uploads/2026/03/Ladies-Game-Night.jpg
END:VEVENT
BEGIN:VEVENT
DTSTART;TZID=America/Chicago:20260409T183000
DTEND;TZID=America/Chicago:20260409T200000
DTSTAMP:20260422T173801
CREATED:20260303T195321Z
LAST-MODIFIED:20260303T195321Z
UID:10671-1775759400-1775764800@goodshepherdowatonna.com
SUMMARY:Women at the Well Evening Bible Study: Jonah
DESCRIPTION:Women’s Bible Study:\nJonah: Navigating a Life Interrupted by Priscilla Shirer\nInterruptions. They’re aggravating. Sometimes infuriating. What do we do when God interrupts our lives? Many times\, like Jonah\, we run! In this 7-session Bible study\, Priscilla redefines interruption and shows that interruption is actually God’s invitation to do something beyond our wildest dreams. When Jonah was willing to allow God to interrupt his life\, the result was revival in an entire city. What might God do when he interrupts us? Enjoy the video\, independent study\, and discussion\, no matter your experience level! \n*Scholarships available if cost is a concern. Please contact the church office. \nRegister HERE or at the Women at the Well display in the Gathering Area.\nAll are welcome! Whether this is your first bible study or your 100th\, we hope you join us.
URL:https://goodshepherdowatonna.com/event/women-at-the-well-evening-bible-study-jonah/
LOCATION:Good Shepherd Owatonna\, 2500 7th Ave NE\, Owatonna\, MN\, 55060\, United States
CATEGORIES:Bible Study,Women at the Well
ATTACH;FMTTYPE=image/png:https://goodshepherdowatonna.com/wp-content/uploads/2026/03/Jonah-Spring26.png
END:VEVENT
BEGIN:VEVENT
DTSTART;TZID=America/Chicago:20260409T133000
DTEND;TZID=America/Chicago:20260409T160000
DTSTAMP:20260422T173801
CREATED:20260319T175039Z
LAST-MODIFIED:20260319T175039Z
UID:10699-1775741400-1775750400@goodshepherdowatonna.com
SUMMARY:500 Card Club
DESCRIPTION:Enjoy an afternoon playing cards. Bring a friend\, or make some new friends!
URL:https://goodshepherdowatonna.com/event/500-card-club/
LOCATION:Good Shepherd Owatonna\, 2500 7th Ave NE\, Owatonna\, MN\, 55060\, United States
CATEGORIES:Community
ATTACH;FMTTYPE=image/png:https://goodshepherdowatonna.com/wp-content/uploads/2026/03/Card-Game-Day4.png
END:VEVENT
BEGIN:VEVENT
DTSTART;TZID=America/Chicago:20260408T100000
DTEND;TZID=America/Chicago:20260408T113000
DTSTAMP:20260422T173801
CREATED:20260303T195130Z
LAST-MODIFIED:20260303T195524Z
UID:10668-1775642400-1775647800@goodshepherdowatonna.com
SUMMARY:Women at the Well Morning Bible Study: Jonah
DESCRIPTION:Women’s Bible Study:\nJonah: Navigating a Life Interrupted by Priscilla Shirer\nInterruptions. They’re aggravating. Sometimes infuriating. What do we do when God interrupts our lives? Many times\, like Jonah\, we run! In this 7-session Bible study\, Priscilla redefines interruption and shows that interruption is actually God’s invitation to do something beyond our wildest dreams. When Jonah was willing to allow God to interrupt his life\, the result was revival in an entire city. What might God do when he interrupts us? Enjoy the video\, independent study\, and discussion\, no matter your experience level! \n*Scholarships available if cost is a concern. Please contact the church office. \nRegister HERE or at the Women at the Well display in the Gathering Area.\nAll are welcome! Whether this is your first bible study or your 100th\, we hope you join us.
URL:https://goodshepherdowatonna.com/event/womens-bible-study-jonah/
LOCATION:Good Shepherd Owatonna\, 2500 7th Ave NE\, Owatonna\, MN\, 55060\, United States
CATEGORIES:Bible Study,Women at the Well
ATTACH;FMTTYPE=image/png:https://goodshepherdowatonna.com/wp-content/uploads/2026/03/Jonah-Spring26.png
END:VEVENT
BEGIN:VEVENT
DTSTART;TZID=America/Chicago:20260405T083000
DTEND;TZID=America/Chicago:20260405T113000
DTSTAMP:20260422T173801
CREATED:20260205T162044Z
LAST-MODIFIED:20260319T181732Z
UID:10630-1775377800-1775388600@goodshepherdowatonna.com
SUMMARY:Easter
DESCRIPTION:8:30AM Easter Hymn Service with the Lord’s Supper\n10:30AM Easter Worship Service
URL:https://goodshepherdowatonna.com/event/easter/
LOCATION:Good Shepherd Owatonna\, 2500 7th Ave NE\, Owatonna\, MN\, 55060\, United States
CATEGORIES:Worship
ATTACH;FMTTYPE=image/png:https://goodshepherdowatonna.com/wp-content/uploads/2026/02/Easter2026TitlePink.png
END:VEVENT
BEGIN:VEVENT
DTSTART;TZID=America/Chicago:20260405T073000
DTEND;TZID=America/Chicago:20260405T103000
DTSTAMP:20260422T173801
CREATED:20260319T181907Z
LAST-MODIFIED:20260319T181907Z
UID:10701-1775374200-1775385000@goodshepherdowatonna.com
SUMMARY:Easter Breakfast
DESCRIPTION:Easter Breakfast between all Easter Services \n7:30AM and 9:30AM
URL:https://goodshepherdowatonna.com/event/easter-breakfast-2/
LOCATION:Good Shepherd Owatonna\, 2500 7th Ave NE\, Owatonna\, MN\, 55060\, United States
CATEGORIES:Food
ATTACH;FMTTYPE=image/jpeg:https://goodshepherdowatonna.com/wp-content/uploads/2026/03/Easter-Breakfast-scaled.jpg
END:VEVENT
BEGIN:VEVENT
DTSTART;TZID=America/Chicago:20260405T063000
DTEND;TZID=America/Chicago:20260405T073000
DTSTAMP:20260422T173801
CREATED:20260205T161743Z
LAST-MODIFIED:20260205T161743Z
UID:10628-1775370600-1775374200@goodshepherdowatonna.com
SUMMARY:Easter Sunrise Service
DESCRIPTION:6:30AM Sunrise Hymn Service with the Lord’s Supper
URL:https://goodshepherdowatonna.com/event/easter-sunrise-service/
LOCATION:Good Shepherd Owatonna\, 2500 7th Ave NE\, Owatonna\, MN\, 55060\, United States
CATEGORIES:Worship
ATTACH;FMTTYPE=image/png:https://goodshepherdowatonna.com/wp-content/uploads/2026/02/Sunrise2026.png
END:VEVENT
BEGIN:VEVENT
DTSTART;TZID=America/Chicago:20260403T183000
DTEND;TZID=America/Chicago:20260403T193000
DTSTAMP:20260422T173801
CREATED:20220315T172830Z
LAST-MODIFIED:20260115T194239Z
UID:8912-1775241000-1775244600@goodshepherdowatonna.com
SUMMARY:Good Friday
DESCRIPTION:Good Friday\nWorship Service 6:30pm
URL:https://goodshepherdowatonna.com/event/good-friday/
LOCATION:Good Shepherd Owatonna\, 2500 7th Ave NE\, Owatonna\, MN\, 55060\, United States
CATEGORIES:Worship
ATTACH;FMTTYPE=image/png:https://goodshepherdowatonna.com/wp-content/uploads/2022/03/GoodFriday2026.png
END:VEVENT
BEGIN:VEVENT
DTSTART;TZID=America/Chicago:20260402T183000
DTEND;TZID=America/Chicago:20260402T193000
DTSTAMP:20260422T173801
CREATED:20220315T172631Z
LAST-MODIFIED:20260115T193927Z
UID:8909-1775154600-1775158200@goodshepherdowatonna.com
SUMMARY:Maundy Thursday
DESCRIPTION:Maundy Thursday Service\nApril 2 6:30PM\nwith Hymns and the Lord’s Supper
URL:https://goodshepherdowatonna.com/event/maundy-thursday/
LOCATION:Good Shepherd Owatonna\, 2500 7th Ave NE\, Owatonna\, MN\, 55060\, United States
CATEGORIES:Worship
ATTACH;FMTTYPE=image/png:https://goodshepherdowatonna.com/wp-content/uploads/2022/01/Maundy2026.png
END:VEVENT
BEGIN:VEVENT
DTSTART;TZID=America/Chicago:20260325T183000
DTEND;TZID=America/Chicago:20260325T191500
DTSTAMP:20260422T173801
CREATED:20260205T164957Z
LAST-MODIFIED:20260218T194501Z
UID:10643-1774463400-1774466100@goodshepherdowatonna.com
SUMMARY:Lent Wednesday March 25
DESCRIPTION:5:30PM Meal: Sandwiches and Salads\nHosted by the World Ministry Team \n6:30 Lent Hymn Service with Pastor Harold
URL:https://goodshepherdowatonna.com/event/lent-wednesday-march-25/
LOCATION:Good Shepherd Owatonna\, 2500 7th Ave NE\, Owatonna\, MN\, 55060\, United States
CATEGORIES:Food,Worship
ATTACH;FMTTYPE=image/png:https://goodshepherdowatonna.com/wp-content/uploads/2026/02/LentMeals2026.png
END:VEVENT
BEGIN:VEVENT
DTSTART;TZID=America/Chicago:20260318T183000
DTEND;TZID=America/Chicago:20260318T191500
DTSTAMP:20260422T173801
CREATED:20260205T164805Z
LAST-MODIFIED:20260218T183729Z
UID:10642-1773858600-1773861300@goodshepherdowatonna.com
SUMMARY:Lent Meal and Hymn Service
DESCRIPTION:5:30PM Meal: Tacos\nHosted by Good Shepherd Preschool \n6:30 Lent Hymn Service with Pastor Greg
URL:https://goodshepherdowatonna.com/event/lent-meal-and-service/
LOCATION:Good Shepherd Owatonna\, 2500 7th Ave NE\, Owatonna\, MN\, 55060\, United States
CATEGORIES:Food,Worship
ATTACH;FMTTYPE=image/png:https://goodshepherdowatonna.com/wp-content/uploads/2026/02/LentMeals2026.png
END:VEVENT
BEGIN:VEVENT
DTSTART;TZID=America/Chicago:20260311T183000
DTEND;TZID=America/Chicago:20260311T191500
DTSTAMP:20260422T173801
CREATED:20260205T164547Z
LAST-MODIFIED:20260218T183550Z
UID:10641-1773253800-1773256500@goodshepherdowatonna.com
SUMMARY:Lent Meal and Worship Service
DESCRIPTION:5:30PM Meal: Tater Tot Hot Dish\nHosted by the LWML Women in Mission \n6:30 Lent Worship Service with Pastor Dan
URL:https://goodshepherdowatonna.com/event/lent-wednesday-march-11/
LOCATION:Good Shepherd Owatonna\, 2500 7th Ave NE\, Owatonna\, MN\, 55060\, United States
CATEGORIES:Food,Worship
ATTACH;FMTTYPE=image/png:https://goodshepherdowatonna.com/wp-content/uploads/2026/02/LentMeals2026.png
END:VEVENT
BEGIN:VEVENT
DTSTART;VALUE=DATE:20260306
DTEND;VALUE=DATE:20260308
DTSTAMP:20260422T173801
CREATED:20260205T163316Z
LAST-MODIFIED:20260205T163316Z
UID:10636-1772755200-1772927999@goodshepherdowatonna.com
SUMMARY:Men's Retreat
DESCRIPTION:Men’s Retreat\nMarch 6-7 at Camp Omega\nEnjoy a weekend with the guys! \nThis year’s theme is Biblical Friendship\, Gracious Fatherhood and True Masculinity. \nOpen to adult men and their sons or grandsons (age 16 and older).\nRegistration includes all meals and study materials. \nLearn more and Register HERE
URL:https://goodshepherdowatonna.com/event/mens-retreat-3/
LOCATION:Camp Omega\, 22750 Lind Ave\, Waterviile\, MN\, 56096
CATEGORIES:Bible Study,Mens Ministry
ATTACH;FMTTYPE=image/png:https://goodshepherdowatonna.com/wp-content/uploads/2026/02/MensRetreat2026.png
END:VEVENT
BEGIN:VEVENT
DTSTART;TZID=America/Chicago:20260304T183000
DTEND;TZID=America/Chicago:20260304T191500
DTSTAMP:20260422T173801
CREATED:20260205T164417Z
LAST-MODIFIED:20260210T163326Z
UID:10640-1772649000-1772651700@goodshepherdowatonna.com
SUMMARY:Lent Wednesday
DESCRIPTION:5:30PM Meal Hosted by the Moms Group\n6:30 Lent Hymn Service with Pastor Ian Thormodson
URL:https://goodshepherdowatonna.com/event/lent-wednesday/
LOCATION:Good Shepherd Owatonna\, 2500 7th Ave NE\, Owatonna\, MN\, 55060\, United States
CATEGORIES:Food,Worship
ATTACH;FMTTYPE=image/png:https://goodshepherdowatonna.com/wp-content/uploads/2026/02/LentMeals2026.png
END:VEVENT
BEGIN:VEVENT
DTSTART;TZID=America/Chicago:20260225T183000
DTEND;TZID=America/Chicago:20260225T191500
DTSTAMP:20260422T173801
CREATED:20260205T163756Z
LAST-MODIFIED:20260211T190804Z
UID:10638-1772044200-1772046900@goodshepherdowatonna.com
SUMMARY:Wednesday Worship Service
DESCRIPTION:5:30PM Meal: Pizza!\nHosted by the Quilters\n6:30 Lent Worship Service with Pastor Ian Thormodson
URL:https://goodshepherdowatonna.com/event/wednesday-lent-service/
LOCATION:Good Shepherd Owatonna\, 2500 7th Ave NE\, Owatonna\, MN\, 55060\, United States
CATEGORIES:Food,Worship
ATTACH;FMTTYPE=image/png:https://goodshepherdowatonna.com/wp-content/uploads/2026/02/LentMeals2026.png
END:VEVENT
BEGIN:VEVENT
DTSTART;TZID=America/Chicago:20260218T183000
DTEND;TZID=America/Chicago:20260218T193000
DTSTAMP:20260422T173801
CREATED:20220126T194650Z
LAST-MODIFIED:20260218T165535Z
UID:8735-1771439400-1771443000@goodshepherdowatonna.com
SUMMARY:Ash Wednesday
DESCRIPTION:Ash Wednesday\nFebruary 18\nMeal at 5:30PM: Sloppy Joes provided by the Youth Team\nNo fish? Nope\, we’re Lutheran :) \nHymn Service at 6:30PM with the Imposition of Ashes and Holy Communion
URL:https://goodshepherdowatonna.com/event/ash-wednesday/
LOCATION:Good Shepherd Owatonna\, 2500 7th Ave NE\, Owatonna\, MN\, 55060\, United States
CATEGORIES:Food,Worship
ATTACH;FMTTYPE=image/png:https://goodshepherdowatonna.com/wp-content/uploads/2022/01/AshWed2026.png
END:VEVENT
BEGIN:VEVENT
DTSTART;TZID=America/Chicago:20260205T183000
DTEND;TZID=America/Chicago:20260205T200000
DTSTAMP:20260422T173801
CREATED:20251217T170114Z
LAST-MODIFIED:20260204T171110Z
UID:10523-1770316200-1770321600@goodshepherdowatonna.com
SUMMARY:Self-Forgiveness
DESCRIPTION:Begins Thursday\, February 5 at 6:30PM\nThis group offers a safe space to look at the places where guilt and shame keep us stuck\, and to explore how taking responsibility\, practicing grace\, and inviting God into the process can lead to real healing. \nWhether you’re seeking help for yourself or hoping to walk alongside others\, this group is designed to encourage\, guide\, and offer hope as we learn what it means to let go of the past and begin moving toward the freedom God desires for us. \nREGISTER HERE
URL:https://goodshepherdowatonna.com/event/self-forgiveness/
LOCATION:Good Shepherd Owatonna\, 2500 7th Ave NE\, Owatonna\, MN\, 55060\, United States
CATEGORIES:Bible Study,Community
ATTACH;FMTTYPE=image/png:https://goodshepherdowatonna.com/wp-content/uploads/2025/12/4-Small.png
END:VEVENT
BEGIN:VEVENT
DTSTART;TZID=America/Chicago:20260203T170000
DTEND;TZID=America/Chicago:20260203T190000
DTSTAMP:20260422T173801
CREATED:20260113T175347Z
LAST-MODIFIED:20260113T175435Z
UID:10598-1770138000-1770145200@goodshepherdowatonna.com
SUMMARY:Preschool Taco Supper and Open House
DESCRIPTION:TICKETS \n$8 in advance \n$10 at the door \nGET TICKETS HERE\n 
URL:https://goodshepherdowatonna.com/event/preschool-taco-supper-and-open-house-2/
LOCATION:Good Shepherd Owatonna\, 2500 7th Ave NE\, Owatonna\, MN\, 55060\, United States
CATEGORIES:Community,Preschool
ATTACH;FMTTYPE=image/png:https://goodshepherdowatonna.com/wp-content/uploads/2026/01/3-1.png
END:VEVENT
BEGIN:VEVENT
DTSTART;TZID=America/Chicago:20260125T160000
DTEND;TZID=America/Chicago:20260125T173000
DTSTAMP:20260422T173801
CREATED:20251217T165845Z
LAST-MODIFIED:20251217T165845Z
UID:10520-1769356800-1769362200@goodshepherdowatonna.com
SUMMARY:Soup Swap! Women at the Well
DESCRIPTION:Bring a soup and share your recipe.\nOr\, just come and sample the soups!\nNo Registration Needed if you just want to enjoy some soup sampling and connection time. \nREGISTER HERE TO BRING A SOUP
URL:https://goodshepherdowatonna.com/event/soup-swap-women-at-the-well/
LOCATION:Good Shepherd Owatonna\, 2500 7th Ave NE\, Owatonna\, MN\, 55060\, United States
CATEGORIES:Community,Women at the Well
ATTACH;FMTTYPE=image/png:https://goodshepherdowatonna.com/wp-content/uploads/2025/12/Women-at-the-Well1.png
END:VEVENT
BEGIN:VEVENT
DTSTART;TZID=America/Chicago:20260115T183000
DTEND;TZID=America/Chicago:20260115T200000
DTSTAMP:20260422T173801
CREATED:20251209T191341Z
LAST-MODIFIED:20251210T180354Z
UID:10502-1768501800-1768507200@goodshepherdowatonna.com
SUMMARY:Jesus and Women: A Women at the Well Bible Study
DESCRIPTION:Jesus and Women: In the First Century and Now\nA 7-Session Study by Kristi McLelland \nImagine walking the dusty roads of Galilee with Jesus of Nazareth—braving jostling crowds just to touch the edge of His cloak and hear Him say\, “Take heart\, daughter\, your faith has healed you.” Those words\, once meant to comfort a hurting woman’s soul thousands of years ago\, were also meant for you. \nJoin biblical culturalist Kristi McLelland on those dusty roads as she transports you back to Jesus’ world\, stepping into the footsteps of the women who came face to face with the living God. Over 7 sessions\, examine the historical and cultural climate of first-century Middle Eastern society to not only understand Jesus more deeply but to fuel your worship of Him today. \nAll are welcome! Whether this is your first bible study or your 100th\, we hope you join us. \nMaterials cost $20\, payable online here or by check at the first class\, payable to Good Shepherd Church. \nREGISTER HERE
URL:https://goodshepherdowatonna.com/event/jesus-and-women-a-women-at-the-well-bible-study/
LOCATION:Good Shepherd Owatonna\, 2500 7th Ave NE\, Owatonna\, MN\, 55060\, United States
CATEGORIES:Bible Study,Women at the Well
ATTACH;FMTTYPE=image/png:https://goodshepherdowatonna.com/wp-content/uploads/2025/12/Womens-Bible-Study-JesusandWomen-Winter26.png
END:VEVENT
BEGIN:VEVENT
DTSTART;TZID=America/Chicago:20260111T180000
DTEND;TZID=America/Chicago:20260111T190000
DTSTAMP:20260422T173801
CREATED:20250806T152756Z
LAST-MODIFIED:20251210T180442Z
UID:10297-1768154400-1768158000@goodshepherdowatonna.com
SUMMARY:Spiritual Stretch: Women at the Well
DESCRIPTION:Date:     Sundays January 11 – February 15 \nTime:    6:00 – 7:00PM \nPlace:    Good Shepherd: Large Sunday School Space (carpeted room downstairs) \nCost:      $25 for six sessions \nBring:    A yoga mat (if you have one) or a light blanket/large towel \nRegister HERE\nTake a deep breath…and join women of faith who are ready to grow\, stretch\, and reflect both physically and spiritually! A blend of devotion\, meditation and yoga\, Spiritual Stretch is a guided time for you to find quiet and calm\, while physically strengthening your “temple”. You will be prompted each week with a point of reflection and then move through a series of stretches before ending with meditation and prayer. Space is limited to 15 women.
URL:https://goodshepherdowatonna.com/event/spiritual-stretch-women-at-the-well/
LOCATION:Good Shepherd Owatonna\, 2500 7th Ave NE\, Owatonna\, MN\, 55060\, United States
CATEGORIES:Women at the Well
ATTACH;FMTTYPE=image/jpeg:https://goodshepherdowatonna.com/wp-content/uploads/2025/08/Spiritual-Stretch-Winter-2026-reg-1.jpg
END:VEVENT
BEGIN:VEVENT
DTSTART;TZID=America/Chicago:20260105T190000
DTEND;TZID=America/Chicago:20260105T210000
DTSTAMP:20260422T173801
CREATED:20250917T165311Z
LAST-MODIFIED:20251209T183006Z
UID:10370-1767639600-1767646800@goodshepherdowatonna.com
SUMMARY:Book Club: Women at the Well
DESCRIPTION:ATTENTION READERS!! Would you like to join a group of women who love Jesus and like to read? This group will meet monthly to discuss a book from a Christian perspective. As a member of the group\, you will help select the books we will read together. \nOur next book is Before We Were Yours by Lisa Wingate. Your leader\, Jess Borkenhagen\, will gather the group for discussion at 7:00 pm on Monday\, January 5\, 2026. Location will be at Jess’ home\, unless the group outgrows the space. \nNote: If you have joined this Book Club in the past\, you do not need to register again. Jess will be expecting you!  \nSimply buy/borrow and start reading the next book and mark your calendar! \nREGISTER HERE 
URL:https://goodshepherdowatonna.com/event/book-club-women-at-the-well/
CATEGORIES:Women at the Well
ATTACH;FMTTYPE=image/png:https://goodshepherdowatonna.com/wp-content/uploads/2025/09/BookClub-NoDate.png
END:VEVENT
BEGIN:VEVENT
DTSTART;TZID=America/Chicago:20251225T100000
DTEND;TZID=America/Chicago:20251225T110000
DTSTAMP:20260422T173801
CREATED:20241125T183502Z
LAST-MODIFIED:20251119T163633Z
UID:10011-1766656800-1766660400@goodshepherdowatonna.com
SUMMARY:Christmas Day
DESCRIPTION:10:00AM Christmas Day Hymn and Carol Service\nwith the Lord’s Supper
URL:https://goodshepherdowatonna.com/event/christmas-day-2/
LOCATION:Good Shepherd Owatonna\, 2500 7th Ave NE\, Owatonna\, MN\, 55060\, United States
ATTACH;FMTTYPE=image/png:https://goodshepherdowatonna.com/wp-content/uploads/2024/11/XmasDay.png
END:VEVENT
BEGIN:VEVENT
DTSTART;VALUE=DATE:20251224
DTEND;VALUE=DATE:20251225
DTSTAMP:20260422T173801
CREATED:20241125T183254Z
LAST-MODIFIED:20251119T163555Z
UID:10009-1766534400-1766620799@goodshepherdowatonna.com
SUMMARY:Christmas Eve
DESCRIPTION:Christmas Eve Candlelight Services\n4:00PM Worship Service\n6:00PM Hymn Service
URL:https://goodshepherdowatonna.com/event/christmas-eve-2/
LOCATION:Good Shepherd Owatonna\, 2500 7th Ave NE\, Owatonna\, MN\, 55060\, United States
CATEGORIES:Worship
ATTACH;FMTTYPE=image/png:https://goodshepherdowatonna.com/wp-content/uploads/2024/11/ChristmasEve2025.png
END:VEVENT
END:VCALENDAR