BEGIN:VCALENDAR
VERSION:2.0
PRODID:-//Good Shepherd Church in Owatonna - ECPv6.15.20//NONSGML v1.0//EN
CALSCALE:GREGORIAN
METHOD:PUBLISH
X-WR-CALNAME:Good Shepherd Church in Owatonna
X-ORIGINAL-URL:https://goodshepherdowatonna.com
X-WR-CALDESC:Events for Good Shepherd Church in Owatonna
REFRESH-INTERVAL;VALUE=DURATION:PT1H
X-Robots-Tag:noindex
X-PUBLISHED-TTL:PT1H
BEGIN:VTIMEZONE
TZID:America/Chicago
BEGIN:DAYLIGHT
TZOFFSETFROM:-0600
TZOFFSETTO:-0500
TZNAME:CDT
DTSTART:20240310T080000
END:DAYLIGHT
BEGIN:STANDARD
TZOFFSETFROM:-0500
TZOFFSETTO:-0600
TZNAME:CST
DTSTART:20241103T070000
END:STANDARD
BEGIN:DAYLIGHT
TZOFFSETFROM:-0600
TZOFFSETTO:-0500
TZNAME:CDT
DTSTART:20250309T080000
END:DAYLIGHT
BEGIN:STANDARD
TZOFFSETFROM:-0500
TZOFFSETTO:-0600
TZNAME:CST
DTSTART:20251102T070000
END:STANDARD
BEGIN:DAYLIGHT
TZOFFSETFROM:-0600
TZOFFSETTO:-0500
TZNAME:CDT
DTSTART:20260308T080000
END:DAYLIGHT
BEGIN:STANDARD
TZOFFSETFROM:-0500
TZOFFSETTO:-0600
TZNAME:CST
DTSTART:20261101T070000
END:STANDARD
END:VTIMEZONE
BEGIN:VEVENT
DTSTART;TZID=America/Chicago:20251210T183000
DTEND;TZID=America/Chicago:20251210T193000
DTSTAMP:20260422T094144
CREATED:20251112T174636Z
LAST-MODIFIED:20251112T181650Z
UID:10005-1765391400-1765395000@goodshepherdowatonna.com
SUMMARY:Advent Service
DESCRIPTION:5:30pm Advent Meal: served by the Youth Team \n6:30pm Advent Worship Service \nLIGHTS \nWe decorate in preparation for Christmas. Our decoration preparation includes the use of lights—from candles to twinkling LEDs. These luminous decorations also help us prepare for the advent (or coming) of Jesus during Advent\, a season of preparation. Today we will consider how lights point us to the coming of Christ and the glory He brings.
URL:https://goodshepherdowatonna.com/event/advent-service-2/
CATEGORIES:Advent,Worship
ATTACH;FMTTYPE=image/png:https://goodshepherdowatonna.com/wp-content/uploads/2025/11/Advent2025.png
END:VEVENT
END:VCALENDAR