BEGIN:VCALENDAR
VERSION:2.0
PRODID:-//Good Shepherd Church in Owatonna - ECPv6.15.20//NONSGML v1.0//EN
CALSCALE:GREGORIAN
METHOD:PUBLISH
X-WR-CALNAME:Good Shepherd Church in Owatonna
X-ORIGINAL-URL:https://goodshepherdowatonna.com
X-WR-CALDESC:Events for Good Shepherd Church in Owatonna
REFRESH-INTERVAL;VALUE=DURATION:PT1H
X-Robots-Tag:noindex
X-PUBLISHED-TTL:PT1H
BEGIN:VTIMEZONE
TZID:America/Chicago
BEGIN:DAYLIGHT
TZOFFSETFROM:-0600
TZOFFSETTO:-0500
TZNAME:CDT
DTSTART:20240310T080000
END:DAYLIGHT
BEGIN:STANDARD
TZOFFSETFROM:-0500
TZOFFSETTO:-0600
TZNAME:CST
DTSTART:20241103T070000
END:STANDARD
BEGIN:DAYLIGHT
TZOFFSETFROM:-0600
TZOFFSETTO:-0500
TZNAME:CDT
DTSTART:20250309T080000
END:DAYLIGHT
BEGIN:STANDARD
TZOFFSETFROM:-0500
TZOFFSETTO:-0600
TZNAME:CST
DTSTART:20251102T070000
END:STANDARD
BEGIN:DAYLIGHT
TZOFFSETFROM:-0600
TZOFFSETTO:-0500
TZNAME:CDT
DTSTART:20260308T080000
END:DAYLIGHT
BEGIN:STANDARD
TZOFFSETFROM:-0500
TZOFFSETTO:-0600
TZNAME:CST
DTSTART:20261101T070000
END:STANDARD
END:VTIMEZONE
BEGIN:VEVENT
DTSTART;TZID=America/Chicago:20251203T183000
DTEND;TZID=America/Chicago:20251203T193000
DTSTAMP:20260420T120437
CREATED:20251112T174215Z
LAST-MODIFIED:20251112T181450Z
UID:10002-1764786600-1764790200@goodshepherdowatonna.com
SUMMARY:Advent Service
DESCRIPTION:5:30 Meal: Tater Tot Hot Dish served by the LWML Women in Mission. No sign-up necessary. \n6:30 Advent Hymn Service \nEVERGREENS \nWe decorate in preparation for Christmas. Our decoration preparation includes the use of evergreens—from Christmas trees to pine garland. The evergreen decorations also help us prepare for the advent (or coming) of Jesus during Advent—a season of preparation. Today we will consider how evergreens point us to the coming of Christ and the eternal life that He brings.
URL:https://goodshepherdowatonna.com/event/advent-service/
LOCATION:Good Shepherd Owatonna\, 2500 7th Ave NE\, Owatonna\, MN\, 55060\, United States
CATEGORIES:Advent,Worship
ATTACH;FMTTYPE=image/png:https://goodshepherdowatonna.com/wp-content/uploads/2025/11/Advent2025.png
END:VEVENT
BEGIN:VEVENT
DTSTART;TZID=America/Chicago:20251210T183000
DTEND;TZID=America/Chicago:20251210T193000
DTSTAMP:20260420T120437
CREATED:20251112T174636Z
LAST-MODIFIED:20251112T181650Z
UID:10005-1765391400-1765395000@goodshepherdowatonna.com
SUMMARY:Advent Service
DESCRIPTION:5:30pm Advent Meal: served by the Youth Team \n6:30pm Advent Worship Service \nLIGHTS \nWe decorate in preparation for Christmas. Our decoration preparation includes the use of lights—from candles to twinkling LEDs. These luminous decorations also help us prepare for the advent (or coming) of Jesus during Advent\, a season of preparation. Today we will consider how lights point us to the coming of Christ and the glory He brings.
URL:https://goodshepherdowatonna.com/event/advent-service-2/
CATEGORIES:Advent,Worship
ATTACH;FMTTYPE=image/png:https://goodshepherdowatonna.com/wp-content/uploads/2025/11/Advent2025.png
END:VEVENT
BEGIN:VEVENT
DTSTART;TZID=America/Chicago:20251217T183000
DTEND;TZID=America/Chicago:20251217T193000
DTSTAMP:20260420T120437
CREATED:20251112T182002Z
LAST-MODIFIED:20251112T182002Z
UID:10453-1765996200-1765999800@goodshepherdowatonna.com
SUMMARY:Advent Service
DESCRIPTION:5:30PM Meal: Pulled Pork served by the Quilters and the Mission Trip Team \n6:30PM Advent Hymn Service \nWe decorate in preparation for Christmas. Our decoration preparation includes the use of the crèche—the miniature model of the nativity scene. The crèche is a distinctively Christian decoration in that it depicts the characters involved in the nativity of Christ: Mary\, Joseph\, the shepherds\, the Wise Men\, the angels\, the stable animals\, and—most important of all—the infant Jesus. As we view this manger scene\, we recall the timeless story of God coming to earth as a baby to redeem us from our sins.
URL:https://goodshepherdowatonna.com/event/advent-service-4/
CATEGORIES:Advent,Worship
ATTACH;FMTTYPE=image/png:https://goodshepherdowatonna.com/wp-content/uploads/2025/11/Advent2025.png
END:VEVENT
END:VCALENDAR