BEGIN:VCALENDAR
VERSION:2.0
PRODID:-//Good Shepherd Church in Owatonna - ECPv6.15.20//NONSGML v1.0//EN
CALSCALE:GREGORIAN
METHOD:PUBLISH
X-WR-CALNAME:Good Shepherd Church in Owatonna
X-ORIGINAL-URL:https://goodshepherdowatonna.com
X-WR-CALDESC:Events for Good Shepherd Church in Owatonna
REFRESH-INTERVAL;VALUE=DURATION:PT1H
X-Robots-Tag:noindex
X-PUBLISHED-TTL:PT1H
BEGIN:VTIMEZONE
TZID:America/Chicago
BEGIN:DAYLIGHT
TZOFFSETFROM:-0600
TZOFFSETTO:-0500
TZNAME:CDT
DTSTART:20250309T080000
END:DAYLIGHT
BEGIN:STANDARD
TZOFFSETFROM:-0500
TZOFFSETTO:-0600
TZNAME:CST
DTSTART:20251102T070000
END:STANDARD
BEGIN:DAYLIGHT
TZOFFSETFROM:-0600
TZOFFSETTO:-0500
TZNAME:CDT
DTSTART:20260308T080000
END:DAYLIGHT
BEGIN:STANDARD
TZOFFSETFROM:-0500
TZOFFSETTO:-0600
TZNAME:CST
DTSTART:20261101T070000
END:STANDARD
BEGIN:DAYLIGHT
TZOFFSETFROM:-0600
TZOFFSETTO:-0500
TZNAME:CDT
DTSTART:20270314T080000
END:DAYLIGHT
BEGIN:STANDARD
TZOFFSETFROM:-0500
TZOFFSETTO:-0600
TZNAME:CST
DTSTART:20271107T070000
END:STANDARD
END:VTIMEZONE
BEGIN:VEVENT
DTSTART;TZID=America/Chicago:20260125T160000
DTEND;TZID=America/Chicago:20260125T173000
DTSTAMP:20260421T045436
CREATED:20251217T165845Z
LAST-MODIFIED:20251217T165845Z
UID:10520-1769356800-1769362200@goodshepherdowatonna.com
SUMMARY:Soup Swap! Women at the Well
DESCRIPTION:Bring a soup and share your recipe.\nOr\, just come and sample the soups!\nNo Registration Needed if you just want to enjoy some soup sampling and connection time. \nREGISTER HERE TO BRING A SOUP
URL:https://goodshepherdowatonna.com/event/soup-swap-women-at-the-well/
LOCATION:Good Shepherd Owatonna\, 2500 7th Ave NE\, Owatonna\, MN\, 55060\, United States
CATEGORIES:Community,Women at the Well
ATTACH;FMTTYPE=image/png:https://goodshepherdowatonna.com/wp-content/uploads/2025/12/Women-at-the-Well1.png
END:VEVENT
END:VCALENDAR