BEGIN:VCALENDAR
VERSION:2.0
PRODID:-//Good Shepherd Church in Owatonna - ECPv6.15.17.1//NONSGML v1.0//EN
CALSCALE:GREGORIAN
METHOD:PUBLISH
X-ORIGINAL-URL:https://goodshepherdowatonna.com
X-WR-CALDESC:Events for Good Shepherd Church in Owatonna
REFRESH-INTERVAL;VALUE=DURATION:PT1H
X-Robots-Tag:noindex
X-PUBLISHED-TTL:PT1H
BEGIN:VTIMEZONE
TZID:America/Chicago
BEGIN:DAYLIGHT
TZOFFSETFROM:-0600
TZOFFSETTO:-0500
TZNAME:CDT
DTSTART:20250309T080000
END:DAYLIGHT
BEGIN:STANDARD
TZOFFSETFROM:-0500
TZOFFSETTO:-0600
TZNAME:CST
DTSTART:20251102T070000
END:STANDARD
BEGIN:DAYLIGHT
TZOFFSETFROM:-0600
TZOFFSETTO:-0500
TZNAME:CDT
DTSTART:20260308T080000
END:DAYLIGHT
BEGIN:STANDARD
TZOFFSETFROM:-0500
TZOFFSETTO:-0600
TZNAME:CST
DTSTART:20261101T070000
END:STANDARD
BEGIN:DAYLIGHT
TZOFFSETFROM:-0600
TZOFFSETTO:-0500
TZNAME:CDT
DTSTART:20270314T080000
END:DAYLIGHT
BEGIN:STANDARD
TZOFFSETFROM:-0500
TZOFFSETTO:-0600
TZNAME:CST
DTSTART:20271107T070000
END:STANDARD
END:VTIMEZONE
BEGIN:VEVENT
DTSTART;TZID=America/Chicago:20260105T190000
DTEND;TZID=America/Chicago:20260105T210000
DTSTAMP:20260419T104530
CREATED:20250917T165311Z
LAST-MODIFIED:20251209T183006Z
UID:10370-1767639600-1767646800@goodshepherdowatonna.com
SUMMARY:Book Club: Women at the Well
DESCRIPTION:ATTENTION READERS!! Would you like to join a group of women who love Jesus and like to read? This group will meet monthly to discuss a book from a Christian perspective. As a member of the group\, you will help select the books we will read together. \nOur next book is Before We Were Yours by Lisa Wingate. Your leader\, Jess Borkenhagen\, will gather the group for discussion at 7:00 pm on Monday\, January 5\, 2026. Location will be at Jess’ home\, unless the group outgrows the space. \nNote: If you have joined this Book Club in the past\, you do not need to register again. Jess will be expecting you!  \nSimply buy/borrow and start reading the next book and mark your calendar! \nREGISTER HERE 
URL:https://goodshepherdowatonna.com/event/book-club-women-at-the-well/
LOCATION:MN
CATEGORIES:Women at the Well
ATTACH;FMTTYPE=image/png:https://goodshepherdowatonna.com/wp-content/uploads/2025/09/BookClub-NoDate.png
END:VEVENT
END:VCALENDAR