BEGIN:VCALENDAR
VERSION:2.0
PRODID:-//Good Shepherd Church in Owatonna - ECPv6.15.20//NONSGML v1.0//EN
CALSCALE:GREGORIAN
METHOD:PUBLISH
X-WR-CALNAME:Good Shepherd Church in Owatonna
X-ORIGINAL-URL:https://goodshepherdowatonna.com
X-WR-CALDESC:Events for Good Shepherd Church in Owatonna
REFRESH-INTERVAL;VALUE=DURATION:PT1H
X-Robots-Tag:noindex
X-PUBLISHED-TTL:PT1H
BEGIN:VTIMEZONE
TZID:America/Chicago
BEGIN:DAYLIGHT
TZOFFSETFROM:-0600
TZOFFSETTO:-0500
TZNAME:CDT
DTSTART:20240310T080000
END:DAYLIGHT
BEGIN:STANDARD
TZOFFSETFROM:-0500
TZOFFSETTO:-0600
TZNAME:CST
DTSTART:20241103T070000
END:STANDARD
BEGIN:DAYLIGHT
TZOFFSETFROM:-0600
TZOFFSETTO:-0500
TZNAME:CDT
DTSTART:20250309T080000
END:DAYLIGHT
BEGIN:STANDARD
TZOFFSETFROM:-0500
TZOFFSETTO:-0600
TZNAME:CST
DTSTART:20251102T070000
END:STANDARD
BEGIN:DAYLIGHT
TZOFFSETFROM:-0600
TZOFFSETTO:-0500
TZNAME:CDT
DTSTART:20260308T080000
END:DAYLIGHT
BEGIN:STANDARD
TZOFFSETFROM:-0500
TZOFFSETTO:-0600
TZNAME:CST
DTSTART:20261101T070000
END:STANDARD
END:VTIMEZONE
BEGIN:VEVENT
DTSTART;TZID=America/Chicago:20251101T080000
DTEND;TZID=America/Chicago:20251101T093000
DTSTAMP:20260425T083242
CREATED:20251008T154455Z
LAST-MODIFIED:20251008T154455Z
UID:10409-1761984000-1761989400@goodshepherdowatonna.com
SUMMARY:Men's Breakfast
DESCRIPTION:Men’s Breakfast meets on the first Saturday of the month at 8:00AM.\n \nBring a friend for bagels and Bible Study with the guys! No Registration Required. \nThis Year’s Theme: Things I Never Learned in Sunday School
URL:https://goodshepherdowatonna.com/event/mens-breakfast-3/
LOCATION:Good Shepherd Owatonna\, 2500 7th Ave NE\, Owatonna\, MN\, 55060\, United States
CATEGORIES:Bible Study,Mens Ministry
ATTACH;FMTTYPE=image/png:https://goodshepherdowatonna.com/wp-content/uploads/2025/10/Mens-Breakfast-Medium.png
END:VEVENT
BEGIN:VEVENT
DTSTART;TZID=America/Chicago:20251115T080000
DTEND;TZID=America/Chicago:20251115T140000
DTSTAMP:20260425T083242
CREATED:20251007T153259Z
LAST-MODIFIED:20251008T152042Z
UID:10401-1763193600-1763215200@goodshepherdowatonna.com
SUMMARY:Embrace Your True Identity
DESCRIPTION:A Come to the Well Event: Embrace Your True Identity and Carry His Peace into the Holidays\nAlicia Economos\, an experienced speaker\, author\, and life coach will teach on how to maintain a healthy relationship with yourself as a foundation to loving God and loving others wholeheartedly. \n8:30-9:00AM Registration – light breakfast/coffee \n9:00-11:30AM Main Session: Worship\, large group teaching\, small group and panel discussions. \n11:45AM-2:00PM: OPTIONAL: Skill Building Box lunch\, workshop w/ hands-on instruction. \nREGISTER BY NOVEMBER 7 HERE
URL:https://goodshepherdowatonna.com/event/embrace-your-true-identity/
LOCATION:Good Shepherd Owatonna\, 2500 7th Ave NE\, Owatonna\, MN\, 55060\, United States
CATEGORIES:Women at the Well
ATTACH;FMTTYPE=image/png:https://goodshepherdowatonna.com/wp-content/uploads/2025/10/Come-to-the-Well-Event-1692.png
END:VEVENT
END:VCALENDAR